BEGIN:VCALENDAR
VERSION:2.0
PRODID:-//Squarespace Inc/Squarespace 6//v6//EN
BEGIN:VEVENT
UID:567e92cb1c1210bb27459ed3@squarespace.com
DTSTAMP:20160303T152211Z
DTSTART:20160406T173000Z
DTEND:20160525T203000Z
SUMMARY:MBSR
GEO:52.256667;-7.116812
LOCATION:Edmund Rice Heritage Centre\, Mount Sion\,\, Waterford\, Waterford
 \, Ireland
END:VEVENT
END:VCALENDAR
