BEGIN:VCALENDAR
VERSION:2.0
PRODID:-//Squarespace Inc/Squarespace 6//v6//EN
BEGIN:VEVENT
UID:57acd3665016e1522f6ba40c@squarespace.com
DTSTAMP:20160811T194320Z
DTSTART:20160922T173000Z
DTEND:20161110T210000Z
SUMMARY:MBSR 
END:VEVENT
END:VCALENDAR
