BEGIN:VCALENDAR
VERSION:2.0
PRODID:-//Squarespace Inc/Squarespace 6//v6//EN
BEGIN:VEVENT
UID:5682eabb40667ab2825c594a@squarespace.com
DTSTAMP:20151229T202611Z
DTSTART:20160112T190000Z
DTEND:20160112T201500Z
SUMMARY:Monthly Mindfulness 
END:VEVENT
END:VCALENDAR
