BEGIN:VCALENDAR
VERSION:2.0
PRODID:-//Squarespace Inc/Squarespace 6//v6//EN
BEGIN:VEVENT
UID:56816c53841abaa3c923de9f@squarespace.com
DTSTAMP:20160113T122318Z
DTSTART:20160201T103000Z
DTEND:20160307T123000Z
SUMMARY:Carlow
END:VEVENT
END:VCALENDAR
