BEGIN:VCALENDAR
VERSION:2.0
PRODID:-//Squarespace Inc/Squarespace 6//v6//EN
BEGIN:VEVENT
UID:56816e8ca128e603baa8fd48@squarespace.com
DTSTAMP:20160407T085844Z
DTSTART:20160420T173000Z
DTEND:20160525T190000Z
SUMMARY:Waterford
END:VEVENT
END:VCALENDAR
