BEGIN:VCALENDAR
VERSION:2.0
PRODID:-//Squarespace Inc/Squarespace 6//v6//EN
BEGIN:VEVENT
UID:57acc4f6f5e2314a3613a1cc@squarespace.com
DTSTAMP:20160914T152642Z
DTSTART:20161004T090000Z
DTEND:20161108T103000Z
SUMMARY:Mindfulness course 
END:VEVENT
END:VCALENDAR
