BEGIN:VCALENDAR
VERSION:2.0
PRODID:-//Squarespace Inc/Squarespace 6//v6//EN
BEGIN:VEVENT
UID:5862b511725e25ca579eefc7@squarespace.com
DTSTAMP:20161227T184019Z
DTSTART:20170131T110000Z
DTEND:20170307T123000Z
SUMMARY:6 week Foundation Course in Mindfulness 
END:VEVENT
END:VCALENDAR
