BEGIN:VCALENDAR
VERSION:2.0
PRODID:-//Squarespace Inc/Squarespace 6//v6//EN
BEGIN:VEVENT
UID:59b7e8cdbe42d6f0ab0e45d9@squarespace.com
DTSTAMP:20170912T140323Z
DTSTART:20171011T180000Z
DTEND:20171115T203000Z
SUMMARY:Foundation Course in Mindfulness
END:VEVENT
END:VCALENDAR
