BEGIN:VCALENDAR
VERSION:2.0
PRODID:-//Squarespace Inc/Squarespace 6//v6//EN
BEGIN:VEVENT
UID:59b7e6913c91f1bb0de27040@squarespace.com
DTSTAMP:20170912T140123Z
DTSTART:20171003T100000Z
DTEND:20171107T123000Z
SUMMARY:Foundation Course in Mindfulness
END:VEVENT
END:VCALENDAR
